BEGIN:VCALENDAR
VERSION:2.0
PRODID:-//Childwall C of E Primary School - ECPv6.15.20//NONSGML v1.0//EN
CALSCALE:GREGORIAN
METHOD:PUBLISH
X-ORIGINAL-URL:https://childwallce.co.uk
X-WR-CALDESC:Events for Childwall C of E Primary School
REFRESH-INTERVAL;VALUE=DURATION:PT1H
X-Robots-Tag:noindex
X-PUBLISHED-TTL:PT1H
BEGIN:VTIMEZONE
TZID:Europe/London
BEGIN:DAYLIGHT
TZOFFSETFROM:+0000
TZOFFSETTO:+0100
TZNAME:BST
DTSTART:20250330T010000
END:DAYLIGHT
BEGIN:STANDARD
TZOFFSETFROM:+0100
TZOFFSETTO:+0000
TZNAME:GMT
DTSTART:20251026T010000
END:STANDARD
BEGIN:DAYLIGHT
TZOFFSETFROM:+0000
TZOFFSETTO:+0100
TZNAME:BST
DTSTART:20260329T010000
END:DAYLIGHT
BEGIN:STANDARD
TZOFFSETFROM:+0100
TZOFFSETTO:+0000
TZNAME:GMT
DTSTART:20261025T010000
END:STANDARD
BEGIN:DAYLIGHT
TZOFFSETFROM:+0000
TZOFFSETTO:+0100
TZNAME:BST
DTSTART:20270328T010000
END:DAYLIGHT
BEGIN:STANDARD
TZOFFSETFROM:+0100
TZOFFSETTO:+0000
TZNAME:GMT
DTSTART:20271031T010000
END:STANDARD
END:VTIMEZONE
BEGIN:VEVENT
DTSTART;TZID=Europe/London:20260421T130000
DTEND;TZID=Europe/London:20260421T183000
DTSTAMP:20260420T182528
CREATED:20260115T123126Z
LAST-MODIFIED:20260213T145736Z
UID:63686-1776776400-1776796200@childwallce.co.uk
SUMMARY:Year 5 and 6 Parents evening
DESCRIPTION:
URL:https://childwallce.co.uk/event/year-5-and-6-parents-evening/
END:VEVENT
BEGIN:VEVENT
DTSTART;TZID=Europe/London:20260424T080000
DTEND;TZID=Europe/London:20260424T170000
DTSTAMP:20260420T182528
CREATED:20260115T123507Z
LAST-MODIFIED:20260115T123507Z
UID:63690-1777017600-1777050000@childwallce.co.uk
SUMMARY:Year 2 Great Fire of London Workshop
DESCRIPTION:
URL:https://childwallce.co.uk/event/year-2-great-fire-of-london-workshop/
END:VEVENT
BEGIN:VEVENT
DTSTART;TZID=Europe/London:20260427T080000
DTEND;TZID=Europe/London:20260427T170000
DTSTAMP:20260420T182528
CREATED:20260115T123615Z
LAST-MODIFIED:20260115T123615Z
UID:63692-1777276800-1777309200@childwallce.co.uk
SUMMARY:Year 4 walk
DESCRIPTION:
URL:https://childwallce.co.uk/event/year-4-walk/
END:VEVENT
END:VCALENDAR